BEGIN:VCALENDAR
VERSION:2.0
PRODID:-//Escarton - ECPv6.15.20//NONSGML v1.0//EN
CALSCALE:GREGORIAN
METHOD:PUBLISH
X-ORIGINAL-URL:https://www.escarton.it
X-WR-CALDESC:Eventi per Escarton
REFRESH-INTERVAL;VALUE=DURATION:PT1H
X-Robots-Tag:noindex
X-PUBLISHED-TTL:PT1H
BEGIN:VTIMEZONE
TZID:Europe/Rome
BEGIN:DAYLIGHT
TZOFFSETFROM:+0100
TZOFFSETTO:+0200
TZNAME:CEST
DTSTART:20250330T010000
END:DAYLIGHT
BEGIN:STANDARD
TZOFFSETFROM:+0200
TZOFFSETTO:+0100
TZNAME:CET
DTSTART:20251026T010000
END:STANDARD
BEGIN:DAYLIGHT
TZOFFSETFROM:+0100
TZOFFSETTO:+0200
TZNAME:CEST
DTSTART:20260329T010000
END:DAYLIGHT
BEGIN:STANDARD
TZOFFSETFROM:+0200
TZOFFSETTO:+0100
TZNAME:CET
DTSTART:20261025T010000
END:STANDARD
BEGIN:DAYLIGHT
TZOFFSETFROM:+0100
TZOFFSETTO:+0200
TZNAME:CEST
DTSTART:20270328T010000
END:DAYLIGHT
BEGIN:STANDARD
TZOFFSETFROM:+0200
TZOFFSETTO:+0100
TZNAME:CET
DTSTART:20271031T010000
END:STANDARD
END:VTIMEZONE
BEGIN:VEVENT
DTSTART;TZID=Europe/Rome:20260427T210000
DTEND;TZID=Europe/Rome:20260427T223000
DTSTAMP:20260421T134457
CREATED:20260421T100556Z
LAST-MODIFIED:20260421T100556Z
UID:13216-1777323600-1777329000@www.escarton.it
SUMMARY:STAGE FANDANGO DI POLLENCA CON FEDERICA
DESCRIPTION:Stage Fantango di Pollenca con Federica Raggi\nDue incontri\, lunedì 27 aprile e 4 maggio 2026 dalle ore 21 alle 22\,30 presso ASD Buridani Via Medici del Vascello 13 Venaria Reale.\nCosti:\n€10 Tesseramento Associativo 2026\n€16 Contributo\nIn sala si accede con cambio scarpe.\nPer informazioni:\nassociazione@escarton.it\nTel. 3466295202
URL:https://www.escarton.it/evento/stage-fandango-di-pollenca-con-federica/
LOCATION:Venaria Reale Via Medici del Vascello 13
CATEGORIES:Attività
ATTACH;FMTTYPE=image/jpeg:https://www.escarton.it/wp-content/uploads/2026/04/13216_image_675240754_962030026529381_8975043552376552673_n.jpg
END:VEVENT
END:VCALENDAR